BEGIN:VCALENDAR
VERSION:2.0
PRODID:-//VBA - Volley Ball Albigeois - ECPv6.15.20//NONSGML v1.0//EN
CALSCALE:GREGORIAN
METHOD:PUBLISH
X-ORIGINAL-URL:https://vba81.org
X-WR-CALDESC:Évènements pour VBA - Volley Ball Albigeois
REFRESH-INTERVAL;VALUE=DURATION:PT1H
X-Robots-Tag:noindex
X-PUBLISHED-TTL:PT1H
BEGIN:VTIMEZONE
TZID:Europe/Paris
BEGIN:DAYLIGHT
TZOFFSETFROM:+0100
TZOFFSETTO:+0200
TZNAME:CEST
DTSTART:20210328T010000
END:DAYLIGHT
BEGIN:STANDARD
TZOFFSETFROM:+0200
TZOFFSETTO:+0100
TZNAME:CET
DTSTART:20211031T010000
END:STANDARD
BEGIN:DAYLIGHT
TZOFFSETFROM:+0100
TZOFFSETTO:+0200
TZNAME:CEST
DTSTART:20220327T010000
END:DAYLIGHT
BEGIN:STANDARD
TZOFFSETFROM:+0200
TZOFFSETTO:+0100
TZNAME:CET
DTSTART:20221030T010000
END:STANDARD
BEGIN:DAYLIGHT
TZOFFSETFROM:+0100
TZOFFSETTO:+0200
TZNAME:CEST
DTSTART:20230326T010000
END:DAYLIGHT
BEGIN:STANDARD
TZOFFSETFROM:+0200
TZOFFSETTO:+0100
TZNAME:CET
DTSTART:20231029T010000
END:STANDARD
END:VTIMEZONE
BEGIN:VEVENT
DTSTART;TZID=Europe/Paris:20221027T090000
DTEND;TZID=Europe/Paris:20221027T120000
DTSTAMP:20260421T130807
CREATED:20221024T065143Z
LAST-MODIFIED:20221024T070033Z
UID:3827-1666861200-1666872000@vba81.org
SUMMARY:[M11-M13-M15] Stage de Toussaint VBA
DESCRIPTION:Stage gratuit pour les adhérents des catégories M11\, M13 et M15 \nLes inscriptions doivent se faire auprès des entraîneurs à l’adresse suivante : entraineurs@vba81.org en précisant le nom et prénom sans oublier la catégorie (exemple M11\, M15…)
URL:https://vba81.org/event/m11-m13-m15-stage-vba-gratuit/
LOCATION:Gymnase du COSEC\, 271 avenue Colonel Teyssier\, Albi\, 81000\, France
CATEGORIES:M11,M13 Féminine,M13 Masculine,M15 Féminine Occitanie Ouest
ORGANIZER;CN="VOLLEY BALL ALBIGEOIS":MAILTO:contact@vba81.org
END:VEVENT
BEGIN:VEVENT
DTSTART;VALUE=DATE:20221029
DTEND;VALUE=DATE:20221031
DTSTAMP:20260421T130807
CREATED:20220927T061507Z
LAST-MODIFIED:20220927T061507Z
UID:3732-1667001600-1667174399@vba81.org
SUMMARY:[M13] - Stage départemental
DESCRIPTION:
URL:https://vba81.org/event/m13-stage-departemental/
CATEGORIES:M13 Féminine,M13 Masculine
END:VEVENT
BEGIN:VEVENT
DTSTART;TZID=Europe/Paris:20221031T090000
DTEND;TZID=Europe/Paris:20221031T120000
DTSTAMP:20260421T130807
CREATED:20221024T065143Z
LAST-MODIFIED:20221024T070013Z
UID:3830-1667206800-1667217600@vba81.org
SUMMARY:[M11-M13-M15] Stage de Toussaint VBA
DESCRIPTION:Stage gratuit pour les adhérents des catégories M11\, M13 et M15 \nLes inscriptions doivent se faire auprès des entraîneurs à l’adresse suivante : entraineurs@vba81.org en précisant le nom et prénom sans oublier la catégorie (exemple M11\, M15…)
URL:https://vba81.org/event/m11-m13-m15-stage-de-toussaint-vba/
LOCATION:Gymnase du COSEC\, 271 avenue Colonel Teyssier\, Albi\, 81000\, France
CATEGORIES:M11,M13 Féminine,M13 Masculine,M15 Féminine Occitanie Ouest
ORGANIZER;CN="VOLLEY BALL ALBIGEOIS":MAILTO:contact@vba81.org
END:VEVENT
END:VCALENDAR