BEGIN:VCALENDAR
VERSION:2.0
PRODID:-//VBA - Volley Ball Albigeois - ECPv6.15.20//NONSGML v1.0//EN
CALSCALE:GREGORIAN
METHOD:PUBLISH
X-WR-CALNAME:VBA - Volley Ball Albigeois
X-ORIGINAL-URL:https://vba81.org
X-WR-CALDESC:Évènements pour VBA - Volley Ball Albigeois
REFRESH-INTERVAL;VALUE=DURATION:PT1H
X-Robots-Tag:noindex
X-PUBLISHED-TTL:PT1H
BEGIN:VTIMEZONE
TZID:Europe/Paris
BEGIN:DAYLIGHT
TZOFFSETFROM:+0100
TZOFFSETTO:+0200
TZNAME:CEST
DTSTART:20220327T010000
END:DAYLIGHT
BEGIN:STANDARD
TZOFFSETFROM:+0200
TZOFFSETTO:+0100
TZNAME:CET
DTSTART:20221030T010000
END:STANDARD
BEGIN:DAYLIGHT
TZOFFSETFROM:+0100
TZOFFSETTO:+0200
TZNAME:CEST
DTSTART:20230326T010000
END:DAYLIGHT
BEGIN:STANDARD
TZOFFSETFROM:+0200
TZOFFSETTO:+0100
TZNAME:CET
DTSTART:20231029T010000
END:STANDARD
BEGIN:DAYLIGHT
TZOFFSETFROM:+0100
TZOFFSETTO:+0200
TZNAME:CEST
DTSTART:20240331T010000
END:DAYLIGHT
BEGIN:STANDARD
TZOFFSETFROM:+0200
TZOFFSETTO:+0100
TZNAME:CET
DTSTART:20241027T010000
END:STANDARD
END:VTIMEZONE
BEGIN:VEVENT
DTSTART;TZID=Europe/Paris:20230402T110000
DTEND;TZID=Europe/Paris:20230402T130000
DTSTAMP:20260422T124852
CREATED:20230124T080945Z
LAST-MODIFIED:20230124T080945Z
UID:4056-1680433200-1680440400@vba81.org
SUMMARY:[M21F] - GROUPEMENT MJC RODEZ / VC VALLON CAUSSES vs VBA
DESCRIPTION:
URL:https://vba81.org/event/m21f-groupement-mjc-rodez-vc-vallon-causses-vs-vba/
LOCATION:FRUGERE
CATEGORIES:M18/M21 Féminine Occitanie Ouest
END:VEVENT
BEGIN:VEVENT
DTSTART;TZID=Europe/Paris:20230402T110000
DTEND;TZID=Europe/Paris:20230402T130000
DTSTAMP:20260422T124852
CREATED:20230124T081548Z
LAST-MODIFIED:20230124T081548Z
UID:4061-1680433200-1680440400@vba81.org
SUMMARY:[M21F] - RODEZ vs VBA
DESCRIPTION:
URL:https://vba81.org/event/m21f-rodez-vs-vba/
LOCATION:RODEZ
CATEGORIES:M18/M21 Féminine Occitanie Ouest
END:VEVENT
END:VCALENDAR