BEGIN:VCALENDAR
VERSION:2.0
PRODID:-//VBA - Volley Ball Albigeois - ECPv6.15.20//NONSGML v1.0//EN
CALSCALE:GREGORIAN
METHOD:PUBLISH
X-ORIGINAL-URL:https://vba81.org
X-WR-CALDESC:Évènements pour VBA - Volley Ball Albigeois
REFRESH-INTERVAL;VALUE=DURATION:PT1H
X-Robots-Tag:noindex
X-PUBLISHED-TTL:PT1H
BEGIN:VTIMEZONE
TZID:Europe/Paris
BEGIN:DAYLIGHT
TZOFFSETFROM:+0100
TZOFFSETTO:+0200
TZNAME:CEST
DTSTART:20210328T010000
END:DAYLIGHT
BEGIN:STANDARD
TZOFFSETFROM:+0200
TZOFFSETTO:+0100
TZNAME:CET
DTSTART:20211031T010000
END:STANDARD
BEGIN:DAYLIGHT
TZOFFSETFROM:+0100
TZOFFSETTO:+0200
TZNAME:CEST
DTSTART:20220327T010000
END:DAYLIGHT
BEGIN:STANDARD
TZOFFSETFROM:+0200
TZOFFSETTO:+0100
TZNAME:CET
DTSTART:20221030T010000
END:STANDARD
BEGIN:DAYLIGHT
TZOFFSETFROM:+0100
TZOFFSETTO:+0200
TZNAME:CEST
DTSTART:20230326T010000
END:DAYLIGHT
BEGIN:STANDARD
TZOFFSETFROM:+0200
TZOFFSETTO:+0100
TZNAME:CET
DTSTART:20231029T010000
END:STANDARD
END:VTIMEZONE
BEGIN:VEVENT
DTSTART;TZID=Europe/Paris:20221009T100000
DTEND;TZID=Europe/Paris:20221009T100000
DTSTAMP:20260424T193312
CREATED:20220925T075816Z
LAST-MODIFIED:20221001T070131Z
UID:3677-1665309600-1665309600@vba81.org
SUMMARY:[M21F] - VOLLEY-BALL ALBIGEOIS  vs CASTRES MASSAGUEL VOLLEY BALL CLUB - EQ 2
DESCRIPTION:
URL:https://vba81.org/event/m21f-volley-ball-albigeois-vs-castres-massaguel-volley-ball-club/
LOCATION:Gymnase de Lagrèze\, Rue de Finlande\, ALBI\, 81000\, France
CATEGORIES:M18/M21 Féminine Occitanie Ouest
ORGANIZER;CN="VOLLEY BALL ALBIGEOIS":MAILTO:contact@vba81.org
END:VEVENT
BEGIN:VEVENT
DTSTART;VALUE=DATE:20221016
DTEND;VALUE=DATE:20221017
DTSTAMP:20260424T193312
CREATED:20220927T061034Z
LAST-MODIFIED:20221010T083252Z
UID:3742-1665878400-1665964799@vba81.org
SUMMARY:[M21F] - Coupe de France (1er tour)
DESCRIPTION:Premier tour à CASTRES \nface aux équipes de : \n\nCASTRES MASSAGUEL VOLLEY-BALL CLUB\nUS CADALENOISE VB\n\nLes deux premières équipes sont qualifiées pour le tour suivant
URL:https://vba81.org/event/m15f-premier-tout-coupe-de-france-2/
LOCATION:CASTRES MASSAGUEL
CATEGORIES:M18/M21 Féminine Occitanie Ouest
END:VEVENT
BEGIN:VEVENT
DTSTART;TZID=Europe/Paris:20221023T100000
DTEND;TZID=Europe/Paris:20221023T100000
DTSTAMP:20260424T193312
CREATED:20220925T075816Z
LAST-MODIFIED:20220925T080657Z
UID:3679-1666519200-1666519200@vba81.org
SUMMARY:[M21F] - PUYLAURENS VOLLEY BALL  vs VOLLEY-BALL ALBIGEOIS
DESCRIPTION:
URL:https://vba81.org/event/m21f-puylaurens-volley-ball-vs-volley-ball-albigeois/
CATEGORIES:M18/M21 Féminine Occitanie Ouest
ORGANIZER;CN="VOLLEY BALL ALBIGEOIS":MAILTO:contact@vba81.org
END:VEVENT
BEGIN:VEVENT
DTSTART;TZID=Europe/Paris:20221028T090000
DTEND;TZID=Europe/Paris:20221028T180000
DTSTAMP:20260424T193312
CREATED:20221024T065143Z
LAST-MODIFIED:20221024T070935Z
UID:3832-1666947600-1666980000@vba81.org
SUMMARY:[M15G-M18G-M18F-M21F] Stage de Toussaint VBA
DESCRIPTION:Stage gratuit pour les adhérents des catégories M15 Garçon\, M18 Garçon et Fille et M21 Fille \nLes inscriptions doivent se faire auprès des entraîneurs à l’adresse suivante : entraineurs@vba81.org en précisant le nom et prénom sans oublier la catégorie. \nPensez au pique-nique…
URL:https://vba81.org/event/m15g-m18g-m18f-m21f-stage-de-toussaint-vba/
LOCATION:Gymnase du COSEC\, 271 avenue Colonel Teyssier\, Albi\, 81000\, France
CATEGORIES:M15 Masculine,M18 Masculine Occitanie Ouest,M18/M21 Féminine Occitanie Ouest
ORGANIZER;CN="VOLLEY BALL ALBIGEOIS":MAILTO:contact@vba81.org
END:VEVENT
END:VCALENDAR